BEGIN:VCALENDAR
VERSION:2.0
CALSCALE:GREGORIAN
PRODID:-//Diputació de Barcelona//DibaCMS//EN
BEGIN:VEVENT
UID:3615
DTSTAMP:20260420T151535
DTSTART:20231015T010000
DTEND:20231015T235500
SUMMARY:Dia del dol perinatal, gestacional i neonatal
LOCATION:
METHOD:PUBLISH
X-WR-CALNAME:st.llorensh@ajhortons.cat
X-WR-TIMEZONE:Europe/Madrid
DESCRIPTION:El cementiri romandrà obert en el dia d'avui

URI:https://www.ajhortons.cat/actualitat/agenda/dia-del-dol-perinatal-gestacional-i-neonatal.html
CLASS:PUBLIC
END:VEVENT
END:VCALENDAR
