BEGIN:VCALENDAR
VERSION:2.0
CALSCALE:GREGORIAN
PRODID:-//Diputació de Barcelona//DibaCMS//EN
BEGIN:VEVENT
UID:3618
DTSTAMP:20260420T190613
DTSTART:20231027T110000
DTEND:20231027T120000
SUMMARY:Xerrada Alimentació a partir dels 6 mesos
LOCATION:Carrer Generalitat,47 
METHOD:PUBLISH
X-WR-CALNAME:st.llorensh@ajhortons.cat
X-WR-TIMEZONE:Europe/Madrid
DESCRIPTION:Inscripció prèvia

URI:https://www.ajhortons.cat/actualitat/agenda/xerrada-alimentacio-a-partir-dels-6-mesos.html
CLASS:PUBLIC
END:VEVENT
END:VCALENDAR
