BEGIN:VCALENDAR
VERSION:2.0
CALSCALE:GREGORIAN
PRODID:-//Diputació de Barcelona//DibaCMS//EN
BEGIN:VEVENT
UID:3619
DTSTAMP:20260420T181142
DTSTART:20231029T230000
DTEND:20231029T235500
SUMMARY:Canvi d'hora
LOCATION:
METHOD:PUBLISH
X-WR-CALNAME:st.llorensh@ajhortons.cat
X-WR-TIMEZONE:Europe/Madrid
DESCRIPTION:Quan les busques marquin les tres de la matinada seran les dues

URI:https://www.ajhortons.cat/actualitat/agenda/canvi-dhora.html
CLASS:PUBLIC
END:VEVENT
END:VCALENDAR
