BEGIN:VCALENDAR
VERSION:2.0
CALSCALE:GREGORIAN
PRODID:-//Diputació de Barcelona//DibaCMS//EN
BEGIN:VEVENT
UID:3623
DTSTAMP:20260420T144929
DTSTART:20231021T130000
DTEND:20231021T225500
SUMMARY:Olimpiades Marrinxeres
LOCATION:
METHOD:PUBLISH
X-WR-CALNAME:st.llorensh@ajhortons.cat
X-WR-TIMEZONE:Europe/Madrid
DESCRIPTION:
URI:https://www.ajhortons.cat/actualitat/agenda/olimpiades-marrinxeres.html
CLASS:PUBLIC
END:VEVENT
END:VCALENDAR
