BEGIN:VCALENDAR
VERSION:2.0
CALSCALE:GREGORIAN
PRODID:-//Diputació de Barcelona//DibaCMS//EN
BEGIN:VEVENT
UID:3625
DTSTAMP:20260420T162116
DTSTART:20231007T170000
DTEND:20231007T180000
SUMMARY:Cinema al Casal d'Avis
LOCATION:
METHOD:PUBLISH
X-WR-CALNAME:st.llorensh@ajhortons.cat
X-WR-TIMEZONE:Europe/Madrid
DESCRIPTION:Sinopsis 

URI:https://www.ajhortons.cat/actualitat/agenda/cinema-al-casal-davis.html
CLASS:PUBLIC
END:VEVENT
END:VCALENDAR
