BEGIN:VCALENDAR
VERSION:2.0
CALSCALE:GREGORIAN
PRODID:-//Diputació de Barcelona//DibaCMS//EN
BEGIN:VEVENT
UID:3632
DTSTAMP:20260420T134237
DTSTART:20231025T100000
DTEND:20231025T120000
SUMMARY:Jornada habitatge i persones grans
LOCATION:
METHOD:PUBLISH
X-WR-CALNAME:st.llorensh@ajhortons.cat
X-WR-TIMEZONE:Europe/Madrid
DESCRIPTION:
URI:https://www.ajhortons.cat/actualitat/agenda/jornada-habitatge-i-persones-grans.html
CLASS:PUBLIC
END:VEVENT
END:VCALENDAR
