BEGIN:VCALENDAR
VERSION:2.0
CALSCALE:GREGORIAN
PRODID:-//Diputació de Barcelona//DibaCMS//EN
BEGIN:VEVENT
UID:3641
DTSTAMP:20260420T134705
DTSTART:20231019T000000
DTEND:20231019T235900
SUMMARY:Dia internacional contra el càncer de mama
LOCATION:Major, 36 08791 Sant Llorenç d'Hortons
METHOD:PUBLISH
X-WR-CALNAME:st.llorensh@ajhortons.cat
X-WR-TIMEZONE:Europe/Madrid
DESCRIPTION:Es pot presentar en homes i en dones.

URI:https://www.ajhortons.cat/actualitat/agenda/dia-internacional-contra-el-cancer-de-mama.html
CLASS:PUBLIC
END:VEVENT
END:VCALENDAR
