BEGIN:VCALENDAR
VERSION:2.0
CALSCALE:GREGORIAN
PRODID:-//Diputació de Barcelona//DibaCMS//EN
BEGIN:VEVENT
UID:3646
DTSTAMP:20260420T183720
DTSTART:20231107T170000
DTEND:20231107T200500
SUMMARY:Jocs de rol a amb No sabem perdre 
LOCATION:Major, 27 08791 Sant Llorenç d'Hortons
METHOD:PUBLISH
X-WR-CALNAME:st.llorensh@ajhortons.cat
X-WR-TIMEZONE:Europe/Madrid
DESCRIPTION:
URI:https://www.ajhortons.cat/actualitat/agenda/jocs-de-rol-a-amb-no-sabem-perdre-.html
CLASS:PUBLIC
END:VEVENT
END:VCALENDAR
