BEGIN:VCALENDAR
VERSION:2.0
CALSCALE:GREGORIAN
PRODID:-//Diputació de Barcelona//DibaCMS//EN
BEGIN:VEVENT
UID:3647
DTSTAMP:20260420T132944
DTSTART:20231109T170000
DTEND:20231109T200000
SUMMARY:Taller de salut mental per a joves 
LOCATION:Major, 27 08791 Sant Llorenç d'Hortons
METHOD:PUBLISH
X-WR-CALNAME:st.llorensh@ajhortons.cat
X-WR-TIMEZONE:Europe/Madrid
DESCRIPTION:
URI:https://www.ajhortons.cat/actualitat/agenda/taller-de-salut-mental-per-a-joves-.html
CLASS:PUBLIC
END:VEVENT
END:VCALENDAR
