BEGIN:VCALENDAR
VERSION:2.0
CALSCALE:GREGORIAN
PRODID:-//Diputació de Barcelona//DibaCMS//EN
BEGIN:VEVENT
UID:3652
DTSTAMP:20260421T013047
DTSTART:20241111T180000
DTEND:20241114T210000
SUMMARY:Castanyada 2024 (El Casal de la Gent Gran)
LOCATION:El Casal 
METHOD:PUBLISH
X-WR-CALNAME:st.llorensh@ajhortons.cat
X-WR-TIMEZONE:Europe/Madrid
DESCRIPTION:
URI:https://www.ajhortons.cat/actualitat/agenda/castanyada-2024-el-casal-de-la-gent-gran.html
CLASS:PUBLIC
END:VEVENT
END:VCALENDAR
