BEGIN:VCALENDAR
VERSION:2.0
CALSCALE:GREGORIAN
PRODID:-//Diputació de Barcelona//DibaCMS//EN
BEGIN:VEVENT
UID:3655
DTSTAMP:20260420T201505
DTSTART:20231118T190000
DTEND:20231118T200000
SUMMARY:Tomomi Kohno en concert
LOCATION:
METHOD:PUBLISH
X-WR-CALNAME:st.llorensh@ajhortons.cat
X-WR-TIMEZONE:Europe/Madrid
DESCRIPTION:Concert gratuït a l'església

URI:https://www.ajhortons.cat/actualitat/agenda/tomomi-kohno-en-concert.html
CLASS:PUBLIC
END:VEVENT
END:VCALENDAR
