BEGIN:VCALENDAR
VERSION:2.0
CALSCALE:GREGORIAN
PRODID:-//Diputació de Barcelona//DibaCMS//EN
BEGIN:VEVENT
UID:3657
DTSTAMP:20260420T181459
DTSTART:20231106T150000
DTEND:20231106T190000
SUMMARY:Donació de sang
LOCATION:
METHOD:PUBLISH
X-WR-CALNAME:st.llorensh@ajhortons.cat
X-WR-TIMEZONE:Europe/Madrid
DESCRIPTION:Vine a donar sang!

URI:https://www.ajhortons.cat/actualitat/agenda/donacio-de-sang.html
CLASS:PUBLIC
END:VEVENT
END:VCALENDAR
