BEGIN:VCALENDAR
VERSION:2.0
CALSCALE:GREGORIAN
PRODID:-//Diputació de Barcelona//DibaCMS//EN
BEGIN:VEVENT
UID:3658
DTSTAMP:20260420T190525
DTSTART:20231118T060000
DTEND:20231118T180000
SUMMARY:Sortida amb Korretonencs
LOCATION:
METHOD:PUBLISH
X-WR-CALNAME:st.llorensh@ajhortons.cat
X-WR-TIMEZONE:Europe/Madrid
DESCRIPTION:T'apuntes?

URI:https://www.ajhortons.cat/actualitat/agenda/sortida-amb-korretonencs.html
CLASS:PUBLIC
END:VEVENT
END:VCALENDAR
