BEGIN:VCALENDAR
VERSION:2.0
CALSCALE:GREGORIAN
PRODID:-//Diputació de Barcelona//DibaCMS//EN
BEGIN:VEVENT
UID:3666
DTSTAMP:20260420T221036
DTSTART:20240316T170000
DTEND:20240316T200000
SUMMARY:Cinema:: ANA Y EL REY 
LOCATION: Carrer - Diputació 27 - 08791 Sant Llorenç d'Hortons - Barcelona (Catalunya) 08791 Sant Llorenç d'Hortons
METHOD:PUBLISH
X-WR-CALNAME:st.llorensh@ajhortons.cat
X-WR-TIMEZONE:Europe/Madrid
DESCRIPTION:
URI:https://www.ajhortons.cat/actualitat/agenda/cinema-ana-y-el-rey-.html
CLASS:PUBLIC
END:VEVENT
END:VCALENDAR
