BEGIN:VCALENDAR
VERSION:2.0
CALSCALE:GREGORIAN
PRODID:-//Diputació de Barcelona//DibaCMS//EN
BEGIN:VEVENT
UID:3667
DTSTAMP:20260420T164803
DTSTART:20231104T170000
DTEND:20231104T190000
SUMMARY:El verdugo 
LOCATION: Carrer - Diputació 27 - 08791 Sant Llorenç d'Hortons - Barcelona (Catalunya) 08791 Sant Llorenç d'Hortons
METHOD:PUBLISH
X-WR-CALNAME:st.llorensh@ajhortons.cat
X-WR-TIMEZONE:Europe/Madrid
DESCRIPTION:
URI:https://www.ajhortons.cat/actualitat/agenda/el-verdugo-.html
CLASS:PUBLIC
END:VEVENT
END:VCALENDAR
