BEGIN:VCALENDAR
VERSION:2.0
CALSCALE:GREGORIAN
PRODID:-//Diputació de Barcelona//DibaCMS//EN
BEGIN:VEVENT
UID:3671
DTSTAMP:20260420T230933
DTSTART:20231125T100000
DTEND:20231125T140000
SUMMARY:Mercat d'intercanvi de joguines
LOCATION:
METHOD:PUBLISH
X-WR-CALNAME:st.llorensh@ajhortons.cat
X-WR-TIMEZONE:Europe/Madrid
DESCRIPTION:Un mercat que aposta per un consum responsable i la reducció de residus

URI:https://www.ajhortons.cat/actualitat/agenda/mercat-dintercanvi-de-joguines.html
CLASS:PUBLIC
END:VEVENT
END:VCALENDAR
