BEGIN:VCALENDAR
VERSION:2.0
CALSCALE:GREGORIAN
PRODID:-//Diputació de Barcelona//DibaCMS//EN
BEGIN:VEVENT
UID:3674
DTSTAMP:20260420T151356
DTSTART:20231114T000000
DTEND:20231114T000000
SUMMARY:1a reunió club lectura jove 
LOCATION:Major, 27 08791 Sant Llorenç d'Hortons
METHOD:PUBLISH
X-WR-CALNAME:st.llorensh@ajhortons.cat
X-WR-TIMEZONE:Europe/Madrid
DESCRIPTION:
URI:https://www.ajhortons.cat/actualitat/agenda/1a-reunio-club-lectura-jove-.html
CLASS:PUBLIC
END:VEVENT
END:VCALENDAR
