BEGIN:VCALENDAR
VERSION:2.0
CALSCALE:GREGORIAN
PRODID:-//Diputació de Barcelona//DibaCMS//EN
BEGIN:VEVENT
UID:3677
DTSTAMP:20260420T132705
DTSTART:20231113T000000
DTEND:20231113T000000
SUMMARY:Club de lectura juvenil  a Cal Jove 1 (cada mes)
LOCATION:Major, 27 08791 Sant Llorenç d'Hortons
METHOD:PUBLISH
X-WR-CALNAME:st.llorensh@ajhortons.cat
X-WR-TIMEZONE:Europe/Madrid
DESCRIPTION:
URI:https://www.ajhortons.cat/actualitat/agenda/club-de-lectura-juvenil-a-cal-jove-1-cada-mes.html
CLASS:PUBLIC
END:VEVENT
END:VCALENDAR
