BEGIN:VCALENDAR
VERSION:2.0
CALSCALE:GREGORIAN
PRODID:-//Diputació de Barcelona//DibaCMS//EN
BEGIN:VEVENT
UID:3678
DTSTAMP:20260420T150028
DTSTART:20231116T170000
DTEND:20231116T200000
SUMMARY:: Campionat de dards a Cal Jove
LOCATION:Major, 27 08791 Sant Llorenç d'Hortons
METHOD:PUBLISH
X-WR-CALNAME:st.llorensh@ajhortons.cat
X-WR-TIMEZONE:Europe/Madrid
DESCRIPTION:
URI:https://www.ajhortons.cat/actualitat/agenda/-campionat-de-dards-a-cal-jove.html
CLASS:PUBLIC
END:VEVENT
END:VCALENDAR
