BEGIN:VCALENDAR
VERSION:2.0
CALSCALE:GREGORIAN
PRODID:-//Diputació de Barcelona//DibaCMS//EN
BEGIN:VEVENT
UID:3679
DTSTAMP:20260420T133744
DTSTART:20231123T170000
DTEND:20231123T200000
SUMMARY:Sigues periodista 
LOCATION:Major, 27 08791 Sant Llorenç d'Hortons
METHOD:PUBLISH
X-WR-CALNAME:st.llorensh@ajhortons.cat
X-WR-TIMEZONE:Europe/Madrid
DESCRIPTION:
URI:https://www.ajhortons.cat/actualitat/agenda/3679-sigues-periodista-.html
CLASS:PUBLIC
END:VEVENT
END:VCALENDAR
