BEGIN:VCALENDAR
VERSION:2.0
CALSCALE:GREGORIAN
PRODID:-//Diputació de Barcelona//DibaCMS//EN
BEGIN:VEVENT
UID:3684
DTSTAMP:20260420T183010
DTSTART:20231219T080000
DTEND:20231219T200000
SUMMARY:Excursió al Roc de Sant Gaità i mariscada a Torredembarra amb el CASAL 
LOCATION:
METHOD:PUBLISH
X-WR-CALNAME:st.llorensh@ajhortons.cat
X-WR-TIMEZONE:Europe/Madrid
DESCRIPTION:Organitza El Casal d'Avis

URI:https://www.ajhortons.cat/actualitat/agenda/excursio-al-roc-de-sant-gaita-i-mariscada-a-torredembarra-amb-el-casal-.html
CLASS:PUBLIC
END:VEVENT
END:VCALENDAR
