BEGIN:VCALENDAR
VERSION:2.0
CALSCALE:GREGORIAN
PRODID:-//Diputació de Barcelona//DibaCMS//EN
BEGIN:VEVENT
UID:3685
DTSTAMP:20260420T133512
DTSTART:20231117T000000
DTEND:20231117T000000
SUMMARY:Dia Mundial del Nen Prematur
LOCATION:
METHOD:PUBLISH
X-WR-CALNAME:st.llorensh@ajhortons.cat
X-WR-TIMEZONE:Europe/Madrid
DESCRIPTION:
URI:https://www.ajhortons.cat/actualitat/agenda/dia-mundial-del-nen-prematur.html
CLASS:PUBLIC
END:VEVENT
END:VCALENDAR
