BEGIN:VCALENDAR
VERSION:2.0
CALSCALE:GREGORIAN
PRODID:-//Diputació de Barcelona//DibaCMS//EN
BEGIN:VEVENT
UID:3690
DTSTAMP:20260420T164703
DTSTART:20231221T163000
DTEND:20231221T200000
SUMMARY:Bingo de Nadalenc 
LOCATION:Major, 47 08791 Sant Llorenç d'Hortons
METHOD:PUBLISH
X-WR-CALNAME:st.llorensh@ajhortons.cat
X-WR-TIMEZONE:Europe/Madrid
DESCRIPTION:El 25 de desembre, vine a celebrar el Nadal al Bingo de Nadal organitzar per la Societat Cultural Hortonenca. A la Sala, a partir de les 22.00 h

URI:https://www.ajhortons.cat/actualitat/agenda/bingo-de-nadalenc-.html
CLASS:PUBLIC
END:VEVENT
END:VCALENDAR
