BEGIN:VCALENDAR
VERSION:2.0
CALSCALE:GREGORIAN
PRODID:-//Diputació de Barcelona//DibaCMS//EN
BEGIN:VEVENT
UID:3691
DTSTAMP:20260420T214740
DTSTART:20231124T193000
DTEND:20231124T203000
SUMMARY:Ple ordinari
LOCATION:
METHOD:PUBLISH
X-WR-CALNAME:st.llorensh@ajhortons.cat
X-WR-TIMEZONE:Europe/Madrid
DESCRIPTION:
URI:https://www.ajhortons.cat/actualitat/agenda/ple-ordinari.html
CLASS:PUBLIC
END:VEVENT
END:VCALENDAR
