BEGIN:VCALENDAR
VERSION:2.0
CALSCALE:GREGORIAN
PRODID:-//Diputació de Barcelona//DibaCMS//EN
BEGIN:VEVENT
UID:3692
DTSTAMP:20260420T182436
DTSTART:20231202T170000
DTEND:20231202T190000
SUMMARY:Dissabtes en Tribu: Taller Postals de  Nadal 
LOCATION:Major, 27 08791 Sant Llorenç d'Hortons
METHOD:PUBLISH
X-WR-CALNAME:st.llorensh@ajhortons.cat
X-WR-TIMEZONE:Europe/Madrid
DESCRIPTION:
URI:https://www.ajhortons.cat/actualitat/agenda/dissabtes-en-tribu-taller-postals-de-nadal-.html
CLASS:PUBLIC
END:VEVENT
END:VCALENDAR
