BEGIN:VCALENDAR
VERSION:2.0
CALSCALE:GREGORIAN
PRODID:-//Diputació de Barcelona//DibaCMS//EN
BEGIN:VEVENT
UID:3693
DTSTAMP:20260420T201445
DTSTART:20231219T080000
DTEND:20231219T200000
SUMMARY:Excursió a Roc de Sant Gaietà i mariscada a Torredembarra
LOCATION:
METHOD:PUBLISH
X-WR-CALNAME:st.llorensh@ajhortons.cat
X-WR-TIMEZONE:Europe/Madrid
DESCRIPTION:Informació i reserves al 686914075

URI:https://www.ajhortons.cat/actualitat/agenda/excursio-a-roc-de-sant-gaieta-i-mariscada-a-torredembarra.html
CLASS:PUBLIC
END:VEVENT
END:VCALENDAR
