BEGIN:VCALENDAR
VERSION:2.0
CALSCALE:GREGORIAN
PRODID:-//Diputació de Barcelona//DibaCMS//EN
BEGIN:VEVENT
UID:3694
DTSTAMP:20260420T181311
DTSTART:20231203T083000
DTEND:20231203T140000
SUMMARY:5a Trobada de Cotxes Clàssics
LOCATION:
METHOD:PUBLISH
X-WR-CALNAME:st.llorensh@ajhortons.cat
X-WR-TIMEZONE:Europe/Madrid
DESCRIPTION:
URI:https://www.ajhortons.cat/actualitat/agenda/5a-trobada-de-cotxes-classics.html
CLASS:PUBLIC
END:VEVENT
END:VCALENDAR
