BEGIN:VCALENDAR
VERSION:2.0
CALSCALE:GREGORIAN
PRODID:-//Diputació de Barcelona//DibaCMS//EN
BEGIN:VEVENT
UID:3700
DTSTAMP:20260420T151523
DTSTART:20231231T223000
DTEND:20240101T003000
SUMMARY:Capanades populars i Festa de Cap d'any
LOCATION:
METHOD:PUBLISH
X-WR-CALNAME:st.llorensh@ajhortons.cat
X-WR-TIMEZONE:Europe/Madrid
DESCRIPTION:
URI:https://www.ajhortons.cat/actualitat/agenda/capanades-populars-i-festa-de-cap-dany.html
CLASS:PUBLIC
END:VEVENT
END:VCALENDAR
