BEGIN:VCALENDAR
VERSION:2.0
CALSCALE:GREGORIAN
PRODID:-//Diputació de Barcelona//DibaCMS//EN
BEGIN:VEVENT
UID:3703
DTSTAMP:20260420T230858
DTSTART:20231217T090000
DTEND:20231217T110000
SUMMARY:Caminada Solidaria per La Marató
LOCATION:
METHOD:PUBLISH
X-WR-CALNAME:st.llorensh@ajhortons.cat
X-WR-TIMEZONE:Europe/Madrid
DESCRIPTION:
URI:https://www.ajhortons.cat/actualitat/agenda/caminada-solidaria-per-la-marato.html
CLASS:PUBLIC
END:VEVENT
END:VCALENDAR
