BEGIN:VCALENDAR
VERSION:2.0
CALSCALE:GREGORIAN
PRODID:-//Diputació de Barcelona//DibaCMS//EN
BEGIN:VEVENT
UID:3704
DTSTAMP:20260420T201947
DTSTART:20231205T170000
DTEND:20231205T193000
SUMMARY:Tardes de Play + Jocs de taula a Cal Jove  
LOCATION:Major, 27 08791 Sant Llorenç d'Hortons
METHOD:PUBLISH
X-WR-CALNAME:st.llorensh@ajhortons.cat
X-WR-TIMEZONE:Europe/Madrid
DESCRIPTION:
URI:https://www.ajhortons.cat/actualitat/agenda/tardes-de-play--jocs-de-taula-a-cal-jove-.html
CLASS:PUBLIC
END:VEVENT
END:VCALENDAR
