BEGIN:VCALENDAR
VERSION:2.0
CALSCALE:GREGORIAN
PRODID:-//Diputació de Barcelona//DibaCMS//EN
BEGIN:VEVENT
UID:3708
DTSTAMP:20260420T230822
DTSTART:20231221T160000
DTEND:20231221T193000
SUMMARY:Escape Room
LOCATION:Major, 27 08791 Sant Llorenç d'Hortons
METHOD:PUBLISH
X-WR-CALNAME:st.llorensh@ajhortons.cat
X-WR-TIMEZONE:Europe/Madrid
DESCRIPTION:
URI:https://www.ajhortons.cat/actualitat/agenda/escape-room.html
CLASS:PUBLIC
END:VEVENT
END:VCALENDAR
