BEGIN:VCALENDAR
VERSION:2.0
CALSCALE:GREGORIAN
PRODID:-//Diputació de Barcelona//DibaCMS//EN
BEGIN:VEVENT
UID:3710
DTSTAMP:20260420T213407
DTSTART:20231215T000000
DTEND:20231223T000000
SUMMARY:Exposició pictòrica Josep Cuscó
LOCATION:Esplai - Al passatge de les dones 
METHOD:PUBLISH
X-WR-CALNAME:st.llorensh@ajhortons.cat
X-WR-TIMEZONE:Europe/Madrid
DESCRIPTION:Gratuït

URI:https://www.ajhortons.cat/actualitat/agenda/exposicio-pictorica-josep-cusco.html
CLASS:PUBLIC
END:VEVENT
END:VCALENDAR
