BEGIN:VCALENDAR
VERSION:2.0
CALSCALE:GREGORIAN
PRODID:-//Diputació de Barcelona//DibaCMS//EN
BEGIN:VEVENT
UID:3712
DTSTAMP:20260420T213507
DTSTART:20231216T190000
DTEND:20231216T200000
SUMMARY:Concert EMAP
LOCATION:
METHOD:PUBLISH
X-WR-CALNAME:st.llorensh@ajhortons.cat
X-WR-TIMEZONE:Europe/Madrid
DESCRIPTION:L’entrada és lliure.

URI:https://www.ajhortons.cat/actualitat/agenda/concert-emap.html
CLASS:PUBLIC
END:VEVENT
END:VCALENDAR
