BEGIN:VCALENDAR
VERSION:2.0
CALSCALE:GREGORIAN
PRODID:-//Diputació de Barcelona//DibaCMS//EN
BEGIN:VEVENT
UID:3718
DTSTAMP:20260420T215453
DTSTART:20240114T090000
DTEND:20240114T130000
SUMMARY:Sortida Caminaires  
LOCATION:
METHOD:PUBLISH
X-WR-CALNAME:st.llorensh@ajhortons.cat
X-WR-TIMEZONE:Europe/Madrid
DESCRIPTION:Activitat gratuïta

URI:https://www.ajhortons.cat/actualitat/agenda/3718-sortida-caminaires-.html
CLASS:PUBLIC
END:VEVENT
END:VCALENDAR
