BEGIN:VCALENDAR
VERSION:2.0
CALSCALE:GREGORIAN
PRODID:-//Diputació de Barcelona//DibaCMS//EN
BEGIN:VEVENT
UID:3719
DTSTAMP:20260420T183910
DTSTART:20240128T100000
DTEND:20240130T140000
SUMMARY:TALLER Corresponsabilitat i Comunitat: descobrim les dinàmiques i responsabilitat de cuidar
LOCATION:
METHOD:PUBLISH
X-WR-CALNAME:st.llorensh@ajhortons.cat
X-WR-TIMEZONE:Europe/Madrid
DESCRIPTION:
URI:https://www.ajhortons.cat/actualitat/agenda/taller-corresponsabilitat-i-comunitat-descobrim-les-dinamiques-i-responsabilitat-de-cuidar.html
CLASS:PUBLIC
END:VEVENT
END:VCALENDAR
