BEGIN:VCALENDAR
VERSION:2.0
CALSCALE:GREGORIAN
PRODID:-//Diputació de Barcelona//DibaCMS//EN
BEGIN:VEVENT
UID:3720
DTSTAMP:20260420T183643
DTSTART:20240120T010000
DTEND:20240121T000000
SUMMARY:Sant Sebastià 2024
LOCATION:
METHOD:PUBLISH
X-WR-CALNAME:st.llorensh@ajhortons.cat
X-WR-TIMEZONE:Europe/Madrid
DESCRIPTION:Programació d'actes de Sant Sebastià

URI:https://www.ajhortons.cat/actualitat/agenda/sant-sebastia-2024.html
CLASS:PUBLIC
END:VEVENT
END:VCALENDAR
