BEGIN:VCALENDAR
VERSION:2.0
CALSCALE:GREGORIAN
PRODID:-//Diputació de Barcelona//DibaCMS//EN
BEGIN:VEVENT
UID:3725
DTSTAMP:20260420T150115
DTSTART:20240121T180000
DTEND:20240121T200000
SUMMARY:Obra de teatre "El grup de Uasap"
LOCATION:
METHOD:PUBLISH
X-WR-CALNAME:st.llorensh@ajhortons.cat
X-WR-TIMEZONE:Europe/Madrid
DESCRIPTION:Els Kampikipugui presenten nova obra de teatre

URI:https://www.ajhortons.cat/actualitat/agenda/obra-de-teatre-el-grup-de-uasap.html
CLASS:PUBLIC
END:VEVENT
END:VCALENDAR
