BEGIN:VCALENDAR
VERSION:2.0
CALSCALE:GREGORIAN
PRODID:-//Diputació de Barcelona//DibaCMS//EN
BEGIN:VEVENT
UID:3726
DTSTAMP:20260420T181110
DTSTART:20240120T213000
DTEND:20240120T225500
SUMMARY:Corre bars
LOCATION:
METHOD:PUBLISH
X-WR-CALNAME:st.llorensh@ajhortons.cat
X-WR-TIMEZONE:Europe/Madrid
DESCRIPTION:Organitzat per La Marrinxa

URI:https://www.ajhortons.cat/actualitat/agenda/corre-bars.html
CLASS:PUBLIC
END:VEVENT
END:VCALENDAR
