BEGIN:VCALENDAR
VERSION:2.0
CALSCALE:GREGORIAN
PRODID:-//Diputació de Barcelona//DibaCMS//EN
BEGIN:VEVENT
UID:3727
DTSTAMP:20260420T164210
DTSTART:20240120T093000
DTEND:20240120T123000
SUMMARY:Trobada d'intercanvi de plaques de cava
LOCATION:Major, 47 08791 Sant Llorenç d'Hortons
METHOD:PUBLISH
X-WR-CALNAME:st.llorensh@ajhortons.cat
X-WR-TIMEZONE:Europe/Madrid
DESCRIPTION:
URI:https://www.ajhortons.cat/actualitat/agenda/trobada-dintercanvi-de-plaques-de-cava.html
CLASS:PUBLIC
END:VEVENT
END:VCALENDAR
