BEGIN:VCALENDAR
VERSION:2.0
CALSCALE:GREGORIAN
PRODID:-//Diputació de Barcelona//DibaCMS//EN
BEGIN:VEVENT
UID:3728
DTSTAMP:20260420T163843
DTSTART:20240120T113000
DTEND:20240120T121500
SUMMARY:Missa de Sant Sebastià
LOCATION:
METHOD:PUBLISH
X-WR-CALNAME:st.llorensh@ajhortons.cat
X-WR-TIMEZONE:Europe/Madrid
DESCRIPTION:
URI:https://www.ajhortons.cat/actualitat/agenda/missa-de-sant-sebastia.html
CLASS:PUBLIC
END:VEVENT
END:VCALENDAR
