BEGIN:VCALENDAR
VERSION:2.0
CALSCALE:GREGORIAN
PRODID:-//Diputació de Barcelona//DibaCMS//EN
BEGIN:VEVENT
UID:3731
DTSTAMP:20260420T164926
DTSTART:20240120T123000
DTEND:20240120T140000
SUMMARY:Sardanes amb Cobla Maricel
LOCATION:
METHOD:PUBLISH
X-WR-CALNAME:st.llorensh@ajhortons.cat
X-WR-TIMEZONE:Europe/Madrid
DESCRIPTION:Consulteu el programa aquí

URI:https://www.ajhortons.cat/actualitat/agenda/sardanes-amb-cobla-maricel.html
CLASS:PUBLIC
END:VEVENT
END:VCALENDAR
