BEGIN:VCALENDAR
VERSION:2.0
CALSCALE:GREGORIAN
PRODID:-//Diputació de Barcelona//DibaCMS//EN
BEGIN:VEVENT
UID:3734
DTSTAMP:20260420T181443
DTSTART:20240120T173000
DTEND:20240120T180000
SUMMARY:Concert EMAP
LOCATION:
METHOD:PUBLISH
X-WR-CALNAME:st.llorensh@ajhortons.cat
X-WR-TIMEZONE:Europe/Madrid
DESCRIPTION:
URI:https://www.ajhortons.cat/actualitat/agenda/3734-concert-emap.html
CLASS:PUBLIC
END:VEVENT
END:VCALENDAR
