BEGIN:VCALENDAR
VERSION:2.0
CALSCALE:GREGORIAN
PRODID:-//Diputació de Barcelona//DibaCMS//EN
BEGIN:VEVENT
UID:3751
DTSTAMP:20260420T164034
DTSTART:20240208T170000
DTEND:20240208T210000
SUMMARY:Donació de sang
LOCATION:
METHOD:PUBLISH
X-WR-CALNAME:st.llorensh@ajhortons.cat
X-WR-TIMEZONE:Europe/Madrid
DESCRIPTION:Es podrà donar sang de 17h a 21h al Centre Cultural Joana Raspall

URI:https://www.ajhortons.cat/actualitat/agenda/3751-donacio-de-sang.html
CLASS:PUBLIC
END:VEVENT
END:VCALENDAR
