BEGIN:VCALENDAR
VERSION:2.0
CALSCALE:GREGORIAN
PRODID:-//Diputació de Barcelona//DibaCMS//EN
BEGIN:VEVENT
UID:3753
DTSTAMP:20260420T214443
DTSTART:20240207T103000
DTEND:20240207T130000
SUMMARY:Unitat mòbil d'informació al consumidor 
LOCATION:
METHOD:PUBLISH
X-WR-CALNAME:st.llorensh@ajhortons.cat
X-WR-TIMEZONE:Europe/Madrid
DESCRIPTION:Servei gratuït

URI:https://www.ajhortons.cat/actualitat/agenda/unitat-mobil-dinformacio-al-consumidor-.html
CLASS:PUBLIC
END:VEVENT
END:VCALENDAR
