BEGIN:VCALENDAR
VERSION:2.0
CALSCALE:GREGORIAN
PRODID:-//Diputació de Barcelona//DibaCMS//EN
BEGIN:VEVENT
UID:3761
DTSTAMP:20260420T165000
DTSTART:20240127T170000
DTEND:20240127T190000
SUMMARY:Cinema al Casal dels avis
LOCATION:
METHOD:PUBLISH
X-WR-CALNAME:st.llorensh@ajhortons.cat
X-WR-TIMEZONE:Europe/Madrid
DESCRIPTION:
URI:https://www.ajhortons.cat/actualitat/agenda/cinema-al-casal-dels-avis.html
CLASS:PUBLIC
END:VEVENT
END:VCALENDAR
