BEGIN:VCALENDAR
VERSION:2.0
CALSCALE:GREGORIAN
PRODID:-//Diputació de Barcelona//DibaCMS//EN
BEGIN:VEVENT
UID:3773
DTSTAMP:20260420T164854
DTSTART:20240205T000000
DTEND:20240206T000000
SUMMARY:Dia Internacional de Tolerància  Zero amb la Mutilació Genital Femenina 
LOCATION:
METHOD:PUBLISH
X-WR-CALNAME:st.llorensh@ajhortons.cat
X-WR-TIMEZONE:Europe/Madrid
DESCRIPTION:
URI:https://www.ajhortons.cat/actualitat/agenda/dia-internacional-de-tolerancia-zero-amb-la-mutilacio-genital-femenina-.html
CLASS:PUBLIC
END:VEVENT
END:VCALENDAR
