BEGIN:VCALENDAR
VERSION:2.0
CALSCALE:GREGORIAN
PRODID:-//Diputació de Barcelona//DibaCMS//EN
BEGIN:VEVENT
UID:3774
DTSTAMP:20260420T200834
DTSTART:20240213T120000
DTEND:20240213T140000
SUMMARY:INVITACIÓ: Impuls de comunitats energètiques a polígons de l'Alt Penedès
LOCATION:Hermenegild Clascar, 1-3 08770 Vilafranca del Penedès
METHOD:PUBLISH
X-WR-CALNAME:st.llorensh@ajhortons.cat
X-WR-TIMEZONE:Europe/Madrid
DESCRIPTION:
URI:https://www.ajhortons.cat/actualitat/agenda/invitacio-impuls-de-comunitats-energetiques-a-poligons-de-lalt-penedes.html
CLASS:PUBLIC
END:VEVENT
END:VCALENDAR
