BEGIN:VCALENDAR
VERSION:2.0
CALSCALE:GREGORIAN
PRODID:-//Diputació de Barcelona//DibaCMS//EN
BEGIN:VEVENT
UID:3776
DTSTAMP:20260422T112307
DTSTART:20240211T090000
DTEND:20240211T130000
SUMMARY:Sortida Caminaires : Can Catasús 
LOCATION:
METHOD:PUBLISH
X-WR-CALNAME:st.llorensh@ajhortons.cat
X-WR-TIMEZONE:Europe/Madrid
DESCRIPTION:Activitat gratuïta

URI:https://www.ajhortons.cat/actualitat/agenda/sortida-caminaires--can-catasus-.html
CLASS:PUBLIC
END:VEVENT
END:VCALENDAR
