BEGIN:VCALENDAR
VERSION:2.0
CALSCALE:GREGORIAN
PRODID:-//Diputació de Barcelona//DibaCMS//EN
BEGIN:VEVENT
UID:3783
DTSTAMP:20260420T200711
DTSTART:20240215T000000
DTEND:20240216T000000
SUMMARY:Dia Internacional del Càncer infantil 
LOCATION:
METHOD:PUBLISH
X-WR-CALNAME:st.llorensh@ajhortons.cat
X-WR-TIMEZONE:Europe/Madrid
DESCRIPTION:
URI:https://www.ajhortons.cat/actualitat/agenda/dia-internacional-del-cancer-infantil-.html
CLASS:PUBLIC
END:VEVENT
END:VCALENDAR
