BEGIN:VCALENDAR
VERSION:2.0
CALSCALE:GREGORIAN
PRODID:-//Diputació de Barcelona//DibaCMS//EN
BEGIN:VEVENT
UID:3786
DTSTAMP:20260420T183546
DTSTART:20240222T000000
DTEND:20240222T000000
SUMMARY:Taula de participació de la Gent gran
LOCATION: Carrer - Diputació 27 - 08791 Sant Llorenç d'Hortons - Barcelona (Catalunya) 08791 Sant Llorenç d'Hortons
METHOD:PUBLISH
X-WR-CALNAME:st.llorensh@ajhortons.cat
X-WR-TIMEZONE:Europe/Madrid
DESCRIPTION:
URI:https://www.ajhortons.cat/actualitat/agenda/3786-taula-de-participacio-de-la-gent-gran.html
CLASS:PUBLIC
END:VEVENT
END:VCALENDAR
